BEGIN:VCALENDAR
VERSION:2.0
PRODID:-//South Carolina Interfaith Power &amp; Light - ECPv6.15.20//NONSGML v1.0//EN
CALSCALE:GREGORIAN
METHOD:PUBLISH
X-WR-CALNAME:South Carolina Interfaith Power &amp; Light
X-ORIGINAL-URL:https://www.scipl.org
X-WR-CALDESC:Events for South Carolina Interfaith Power &amp; Light
REFRESH-INTERVAL;VALUE=DURATION:PT1H
X-Robots-Tag:noindex
X-PUBLISHED-TTL:PT1H
BEGIN:VTIMEZONE
TZID:America/New_York
BEGIN:DAYLIGHT
TZOFFSETFROM:-0500
TZOFFSETTO:-0400
TZNAME:EDT
DTSTART:20200308T070000
END:DAYLIGHT
BEGIN:STANDARD
TZOFFSETFROM:-0400
TZOFFSETTO:-0500
TZNAME:EST
DTSTART:20201101T060000
END:STANDARD
BEGIN:DAYLIGHT
TZOFFSETFROM:-0500
TZOFFSETTO:-0400
TZNAME:EDT
DTSTART:20210314T070000
END:DAYLIGHT
BEGIN:STANDARD
TZOFFSETFROM:-0400
TZOFFSETTO:-0500
TZNAME:EST
DTSTART:20211107T060000
END:STANDARD
BEGIN:DAYLIGHT
TZOFFSETFROM:-0500
TZOFFSETTO:-0400
TZNAME:EDT
DTSTART:20220313T070000
END:DAYLIGHT
BEGIN:STANDARD
TZOFFSETFROM:-0400
TZOFFSETTO:-0500
TZNAME:EST
DTSTART:20221106T060000
END:STANDARD
END:VTIMEZONE
BEGIN:VEVENT
DTSTART;TZID=America/New_York:20210824T183000
DTEND;TZID=America/New_York:20210824T183000
DTSTAMP:20260425T120444
CREATED:20210629T150849Z
LAST-MODIFIED:20210824T131827Z
UID:600-1629829800-1629829800@www.scipl.org
SUMMARY:Faith\, Climate and Health Series
DESCRIPTION:Join SCIPL and South Carolina Health Professionals for Climate Action for this ongoing series on the intersection of Faith\, the Environment\, and Health. The health of the planet and the health of its’ inhabitants are directly related. When one is unhealthy\, so is the other. Listen to health professionals talk about the need for the earth to be healthy\, and the health concerns that occur when the climate is unbalanced. \n\n\n\nRegister here:  https://bit.ly/3xRbF9j
URL:https://www.scipl.org/event/faith-climate-and-health-series/
ATTACH;FMTTYPE=image/png:https://www.scipl.org/wp-content/uploads/2021/06/Come-Join-Us-7-1.png
END:VEVENT
END:VCALENDAR